BEGIN:VCALENDAR
VERSION:2.0
PRODID:-//eventon.com NONSGML v1.0//EN
CALSCALE:GREGORIAN
METHOD:PUBLISH
BEGIN:VEVENT
UID:69ea37aecdd07
DTSTAMP:20260423T151558Z
DTSTART:20251012T200000Z
DTEND:20251013T055900Z
LOCATION:La Reserva de Educare C. Francisco I. Madero 5850\,  Jocotán Zapopan Jalisco\,  Jocotán\,  45017 Zapopan\,  Jal.
SUMMARY:Aperol Día de Campo
DESCRIPTION:Aperol Día de Campo\nhttps://conciertosguadalajara.mx/events/a
 perol-dia-de-campo/
URL:https://conciertosguadalajara.mx/events/aperol-dia-de-campo/
END:VEVENT
END:VCALENDAR